BEGIN:VCALENDAR
VERSION:2.0
PRODID:-//getmeout.org//NONSGML kigkonsult.se iCalcreator 2.30.10//
CALSCALE:GREGORIAN
METHOD:PUBLISH
UID:635ddb6a-cba0-49f4-9107-a390357e56dc
X-WR-CALDESC:
X-WR-RELCALID:149e5bc79d88809f0542b160f0327d0a
X-WR-TIMEZONE:America/Chicago
BEGIN:VTIMEZONE
TZID:America/Chicago
BEGIN:STANDARD
TZNAME:CST
DTSTART:20301103T020000
TZOFFSETFROM:-0500
TZOFFSETTO:-0600
RDATE:20311102T020000
END:STANDARD
BEGIN:DAYLIGHT
TZNAME:CDT
DTSTART:20300310T020000
TZOFFSETFROM:-0600
TZOFFSETTO:-0500
RDATE:20310309T020000
RDATE:20320314T020000
END:DAYLIGHT
END:VTIMEZONE
BEGIN:VEVENT
UID:299e4a84-3c95-4d19-af42-2ffa9180c992
DTSTAMP:20260425T034047Z
DESCRIPTION:
DTSTART;TZID=America/Chicago:20301225T050000
DTEND;TZID=America/Chicago:20301225T050001
LOCATION:
SUMMARY:Closed for Christmas Day!
END:VEVENT
END:VCALENDAR
