BEGIN:VCALENDAR
VERSION:2.0
PRODID:-//getmeout.org//NONSGML kigkonsult.se iCalcreator 2.30.10//
CALSCALE:GREGORIAN
METHOD:PUBLISH
UID:0a88b409-d734-4c9c-948d-f50d4656042f
X-WR-CALDESC:
X-WR-RELCALID:8753730ae00624ab068044fc9ec99235
X-WR-TIMEZONE:America/Chicago
BEGIN:VTIMEZONE
TZID:America/Chicago
BEGIN:STANDARD
TZNAME:CST
DTSTART:20301103T020000
TZOFFSETFROM:-0500
TZOFFSETTO:-0600
RDATE:20311102T020000
END:STANDARD
BEGIN:DAYLIGHT
TZNAME:CDT
DTSTART:20300310T020000
TZOFFSETFROM:-0600
TZOFFSETTO:-0500
RDATE:20310309T020000
RDATE:20320314T020000
END:DAYLIGHT
END:VTIMEZONE
BEGIN:VEVENT
UID:65b7129b-3ade-40b2-b76d-18162d4c3fca
DTSTAMP:20260425T034017Z
DESCRIPTION:
DTSTART;TZID=America/Chicago:20301224T050000
DTEND;TZID=America/Chicago:20301224T050001
LOCATION:HQ
SUMMARY:Closed for Christmas Eve!
END:VEVENT
END:VCALENDAR
