BEGIN:VCALENDAR
VERSION:2.0
PRODID:-//getmeout.org//NONSGML kigkonsult.se iCalcreator 2.30.10//
CALSCALE:GREGORIAN
METHOD:PUBLISH
UID:16e24bc9-63a2-4efe-babc-250fcaa6c203
X-WR-CALDESC:
X-WR-RELCALID:d32a86bfd9cff3bd405c5a1aa7542b7e
X-WR-TIMEZONE:America/Chicago
BEGIN:VTIMEZONE
TZID:America/Chicago
BEGIN:STANDARD
TZNAME:CST
DTSTART:20291104T020000
TZOFFSETFROM:-0500
TZOFFSETTO:-0600
RDATE:20301103T020000
END:STANDARD
BEGIN:DAYLIGHT
TZNAME:CDT
DTSTART:20290311T020000
TZOFFSETFROM:-0600
TZOFFSETTO:-0500
RDATE:20300310T020000
RDATE:20310309T020000
END:DAYLIGHT
END:VTIMEZONE
BEGIN:VEVENT
UID:fad6ba26-e18b-4e00-b175-3d1be6fbfb14
DTSTAMP:20260424T075605Z
DESCRIPTION:
DTSTART;TZID=America/Chicago:20291225T050000
DTEND;TZID=America/Chicago:20291225T050001
LOCATION:
SUMMARY:Closed for Christmas Day!
END:VEVENT
END:VCALENDAR
