BEGIN:VCALENDAR
VERSION:2.0
PRODID:-//getmeout.org//NONSGML kigkonsult.se iCalcreator 2.30.10//
CALSCALE:GREGORIAN
METHOD:PUBLISH
UID:6043300f-a488-4b14-924a-83da34dce287
X-WR-CALDESC:
X-WR-RELCALID:f58cda18d4a8108ea453afdd072ea343
X-WR-TIMEZONE:America/Chicago
BEGIN:VTIMEZONE
TZID:America/Chicago
BEGIN:STANDARD
TZNAME:CST
DTSTART:20291104T020000
TZOFFSETFROM:-0500
TZOFFSETTO:-0600
RDATE:20301103T020000
END:STANDARD
BEGIN:DAYLIGHT
TZNAME:CDT
DTSTART:20290311T020000
TZOFFSETFROM:-0600
TZOFFSETTO:-0500
RDATE:20300310T020000
RDATE:20310309T020000
END:DAYLIGHT
END:VTIMEZONE
BEGIN:VEVENT
UID:7d94f8f9-20b8-493f-89e1-8b4bcad4bc24
DTSTAMP:20260424T075246Z
DESCRIPTION:
DTSTART;TZID=America/Chicago:20291224T050000
DTEND;TZID=America/Chicago:20291224T050001
LOCATION:HQ
SUMMARY:Closed for Christmas Eve!
END:VEVENT
END:VCALENDAR
