BEGIN:VCALENDAR
VERSION:2.0
PRODID:-//getmeout.org//NONSGML kigkonsult.se iCalcreator 2.30.10//
CALSCALE:GREGORIAN
METHOD:PUBLISH
UID:2e3be03a-a6db-47a0-bb6d-07f08c0617ff
X-WR-CALDESC:
X-WR-RELCALID:136b22ed9cb532dc81470d719a0d282d
X-WR-TIMEZONE:America/Chicago
BEGIN:VTIMEZONE
TZID:America/Chicago
BEGIN:STANDARD
TZNAME:CST
DTSTART:20281105T020000
TZOFFSETFROM:-0500
TZOFFSETTO:-0600
RDATE:20291104T020000
END:STANDARD
BEGIN:DAYLIGHT
TZNAME:CDT
DTSTART:20280312T020000
TZOFFSETFROM:-0600
TZOFFSETTO:-0500
RDATE:20290311T020000
RDATE:20300310T020000
END:DAYLIGHT
END:VTIMEZONE
BEGIN:VEVENT
UID:3b6656d8-0afd-46da-9560-45e08c7cd14b
DTSTAMP:20260423T122504Z
DESCRIPTION:
DTSTART;TZID=America/Chicago:20281225T050000
DTEND;TZID=America/Chicago:20281225T050001
LOCATION:
SUMMARY:Closed for Christmas Day!
END:VEVENT
END:VCALENDAR
