BEGIN:VCALENDAR
VERSION:2.0
PRODID:-//getmeout.org//NONSGML kigkonsult.se iCalcreator 2.30.10//
CALSCALE:GREGORIAN
METHOD:PUBLISH
UID:824b297b-dacc-4738-a77a-1efd1a955913
X-WR-CALDESC:
X-WR-RELCALID:b8f491166138835ba284bcdecb2b194b
X-WR-TIMEZONE:America/Chicago
BEGIN:VTIMEZONE
TZID:America/Chicago
BEGIN:STANDARD
TZNAME:CST
DTSTART:20261101T020000
TZOFFSETFROM:-0500
TZOFFSETTO:-0600
RDATE:20271107T020000
END:STANDARD
BEGIN:DAYLIGHT
TZNAME:CDT
DTSTART:20260308T020000
TZOFFSETFROM:-0600
TZOFFSETTO:-0500
RDATE:20270314T020000
RDATE:20280312T020000
END:DAYLIGHT
END:VTIMEZONE
BEGIN:VEVENT
UID:35e3332f-4bb7-495a-a766-028e72ae0b5c
DTSTAMP:20260421T190826Z
DESCRIPTION:
DTSTART;TZID=America/Chicago:20261224T050000
DTEND;TZID=America/Chicago:20261224T050001
LOCATION:HQ
SUMMARY:Closed for Christmas Eve!
END:VEVENT
END:VCALENDAR
