BEGIN:VCALENDAR
VERSION:2.0
PRODID:-//getmeout.org//NONSGML kigkonsult.se iCalcreator 2.30.10//
CALSCALE:GREGORIAN
METHOD:PUBLISH
UID:6a8b97ea-b306-4f56-8eb7-479832d216cb
X-WR-CALDESC:
X-WR-RELCALID:91234bdfe17273a3029ebec3a44d86b0
X-WR-TIMEZONE:America/Chicago
BEGIN:VTIMEZONE
TZID:America/Chicago
BEGIN:STANDARD
TZNAME:CST
DTSTART:20251102T020000
TZOFFSETFROM:-0500
TZOFFSETTO:-0600
RDATE:20261101T020000
END:STANDARD
BEGIN:DAYLIGHT
TZNAME:CDT
DTSTART:20250309T020000
TZOFFSETFROM:-0600
TZOFFSETTO:-0500
RDATE:20260308T020000
RDATE:20270314T020000
END:DAYLIGHT
END:VTIMEZONE
BEGIN:VEVENT
UID:4200f7b1-bc65-4f0c-b1e6-21ede2277a7b
DTSTAMP:20260421T123132Z
DESCRIPTION:
DTSTART;TZID=America/Chicago:20251225T050000
DTEND;TZID=America/Chicago:20251225T050001
LOCATION:
SUMMARY:Closed for Christmas Day!
END:VEVENT
END:VCALENDAR
