BEGIN:VCALENDAR
VERSION:2.0
PRODID:-//getmeout.org//NONSGML kigkonsult.se iCalcreator 2.30.10//
CALSCALE:GREGORIAN
METHOD:PUBLISH
UID:9cf48f9d-080b-4a7f-be6f-06b0e6128e65
X-WR-CALDESC:
X-WR-RELCALID:be69e85d7bdafba33cb215aaa5f1227a
X-WR-TIMEZONE:America/Chicago
BEGIN:VTIMEZONE
TZID:America/Chicago
BEGIN:STANDARD
TZNAME:CST
DTSTART:20241103T020000
TZOFFSETFROM:-0500
TZOFFSETTO:-0600
RDATE:20251102T020000
RDATE:20261101T020000
END:STANDARD
BEGIN:DAYLIGHT
TZNAME:CDT
DTSTART:20250309T020000
TZOFFSETFROM:-0600
TZOFFSETTO:-0500
RDATE:20260308T020000
RDATE:20270314T020000
END:DAYLIGHT
END:VTIMEZONE
BEGIN:VEVENT
UID:627e2329-203a-46ea-8ad4-6f3d51a49768
DTSTAMP:20260421T155538Z
DESCRIPTION:
DTSTART;TZID=America/Chicago:20251001T050000
DTEND;TZID=America/Chicago:20251031T050001
LOCATION:
SUMMARY:Domestic Violence Awareness Month
END:VEVENT
END:VCALENDAR
