BEGIN:VCALENDAR
VERSION:2.0
PRODID:-//getmeout.org//NONSGML kigkonsult.se iCalcreator 2.30.10//
CALSCALE:GREGORIAN
METHOD:PUBLISH
UID:e139f482-fcd3-4e71-83c3-611d7b0ca3fa
X-WR-CALDESC:
X-WR-RELCALID:3535b4026e268e05d10e79d05ae4447e
X-WR-TIMEZONE:America/Chicago
BEGIN:VTIMEZONE
TZID:America/Chicago
BEGIN:STANDARD
TZNAME:CST
DTSTART:20241103T020000
TZOFFSETFROM:-0500
TZOFFSETTO:-0600
RDATE:20251102T020000
END:STANDARD
BEGIN:DAYLIGHT
TZNAME:CDT
DTSTART:20250309T020000
TZOFFSETFROM:-0600
TZOFFSETTO:-0500
RDATE:20260308T020000
END:DAYLIGHT
END:VTIMEZONE
BEGIN:VEVENT
UID:96a924d9-46bd-4886-a379-c58934b8d555
DTSTAMP:20260422T015144Z
DESCRIPTION:
DTSTART;TZID=America/Chicago:20250401T050000
DTEND;TZID=America/Chicago:20250430T050001
LOCATION:
SUMMARY:Sexual Assault Awareness Month
END:VEVENT
END:VCALENDAR
