BEGIN:VCALENDAR
VERSION:2.0
PRODID:-//getmeout.org//NONSGML kigkonsult.se iCalcreator 2.30.10//
CALSCALE:GREGORIAN
METHOD:PUBLISH
UID:6f3abcec-3166-4f77-924b-6f0772407cd1
X-WR-CALDESC:
X-WR-RELCALID:45f08a02170e54e0c4e1160fa53eabb7
X-WR-TIMEZONE:America/Chicago
BEGIN:VTIMEZONE
TZID:America/Chicago
BEGIN:STANDARD
TZNAME:CST
DTSTART:20241103T020000
TZOFFSETFROM:-0500
TZOFFSETTO:-0600
RDATE:20251102T020000
END:STANDARD
BEGIN:DAYLIGHT
TZNAME:CDT
DTSTART:20250309T020000
TZOFFSETFROM:-0600
TZOFFSETTO:-0500
RDATE:20260308T020000
END:DAYLIGHT
END:VTIMEZONE
BEGIN:VEVENT
UID:ce4d00bd-59e1-49ea-90c4-943842fd8377
DTSTAMP:20260422T014848Z
DESCRIPTION:
DTSTART;TZID=America/Chicago:20250418T050000
DTEND;TZID=America/Chicago:20250418T050001
LOCATION:
SUMMARY:Closed for Good Friday!
END:VEVENT
END:VCALENDAR
