BEGIN:VCALENDAR
VERSION:2.0
PRODID:-//getmeout.org//NONSGML kigkonsult.se iCalcreator 2.30.10//
CALSCALE:GREGORIAN
METHOD:PUBLISH
UID:59032b60-7882-4050-9e8b-40d8c7399aef
X-WR-CALDESC:
X-WR-RELCALID:9d5f8b9bfcf6515cd4cd3f32d4c9f08b
X-WR-TIMEZONE:America/Chicago
BEGIN:VTIMEZONE
TZID:America/Chicago
BEGIN:STANDARD
TZNAME:CST
DTSTART:20241103T020000
TZOFFSETFROM:-0500
TZOFFSETTO:-0600
RDATE:20251102T020000
END:STANDARD
BEGIN:DAYLIGHT
TZNAME:CDT
DTSTART:20240310T020000
TZOFFSETFROM:-0600
TZOFFSETTO:-0500
RDATE:20250309T020000
RDATE:20260308T020000
END:DAYLIGHT
END:VTIMEZONE
BEGIN:VEVENT
UID:58746ce3-5d20-4131-8786-6374ccd2f580
DTSTAMP:20260422T053353Z
DESCRIPTION:
DTSTART;TZID=America/Chicago:20250217T050000
DTEND;TZID=America/Chicago:20250217T050001
LOCATION:
SUMMARY:Closed for President's Day!
END:VEVENT
END:VCALENDAR
