BEGIN:VCALENDAR
VERSION:2.0
PRODID:-//getmeout.org//NONSGML kigkonsult.se iCalcreator 2.30.10//
CALSCALE:GREGORIAN
METHOD:PUBLISH
UID:576e9285-4bc0-4535-a7c1-e3aa1e9ba448
X-WR-CALDESC:
X-WR-RELCALID:04c3e8f966bb826c36431f75c1b3a8ed
X-WR-TIMEZONE:America/Chicago
BEGIN:VTIMEZONE
TZID:America/Chicago
BEGIN:STANDARD
TZNAME:CST
DTSTART:20241103T020000
TZOFFSETFROM:-0500
TZOFFSETTO:-0600
RDATE:20251102T020000
END:STANDARD
BEGIN:DAYLIGHT
TZNAME:CDT
DTSTART:20240310T020000
TZOFFSETFROM:-0600
TZOFFSETTO:-0500
RDATE:20250309T020000
RDATE:20260308T020000
END:DAYLIGHT
END:VTIMEZONE
BEGIN:VEVENT
UID:24e19a33-52b2-4b90-97e7-8805cee47b29
DTSTAMP:20260422T071655Z
DESCRIPTION:
DTSTART;TZID=America/Chicago:20250101T050000
DTEND;TZID=America/Chicago:20250131T050001
LOCATION:
SUMMARY:National Stalking Awareness Month
END:VEVENT
END:VCALENDAR
