BEGIN:VCALENDAR
VERSION:2.0
PRODID:-//getmeout.org//NONSGML kigkonsult.se iCalcreator 2.30.10//
CALSCALE:GREGORIAN
METHOD:PUBLISH
UID:5c644516-cc3f-4bac-857e-06d0c663ffb7
X-WR-CALDESC:
X-WR-RELCALID:880a631ad3d5c62b3ce51e8b5720a060
X-WR-TIMEZONE:America/Chicago
BEGIN:VTIMEZONE
TZID:America/Chicago
BEGIN:STANDARD
TZNAME:CST
DTSTART:20241103T020000
TZOFFSETFROM:-0500
TZOFFSETTO:-0600
RDATE:20251102T020000
END:STANDARD
BEGIN:DAYLIGHT
TZNAME:CDT
DTSTART:20240310T020000
TZOFFSETFROM:-0600
TZOFFSETTO:-0500
RDATE:20250309T020000
RDATE:20260308T020000
END:DAYLIGHT
END:VTIMEZONE
BEGIN:VEVENT
UID:3d163259-520d-4b63-a9c2-f055faef573b
DTSTAMP:20260422T071721Z
DESCRIPTION:
DTSTART;TZID=America/Chicago:20250101T050000
DTEND;TZID=America/Chicago:20250131T050001
LOCATION:
SUMMARY:National Human Trafficking Prevention Month
END:VEVENT
END:VCALENDAR
