BEGIN:VCALENDAR
VERSION:2.0
PRODID:-//getmeout.org//NONSGML kigkonsult.se iCalcreator 2.30.10//
CALSCALE:GREGORIAN
METHOD:PUBLISH
UID:dabfec41-daa2-4eb0-b4c1-463df919d0da
X-WR-CALDESC:
X-WR-RELCALID:877c274057a324ca48cad82a7728f989
X-WR-TIMEZONE:America/Chicago
BEGIN:VTIMEZONE
TZID:America/Chicago
BEGIN:STANDARD
TZNAME:CST
DTSTART:20241103T020000
TZOFFSETFROM:-0500
TZOFFSETTO:-0600
RDATE:20251102T020000
END:STANDARD
BEGIN:DAYLIGHT
TZNAME:CDT
DTSTART:20240310T020000
TZOFFSETFROM:-0600
TZOFFSETTO:-0500
RDATE:20250309T020000
RDATE:20260308T020000
END:DAYLIGHT
END:VTIMEZONE
BEGIN:VEVENT
UID:00ee5f23-026e-4f95-8766-d42145821eee
DTSTAMP:20260422T072114Z
DESCRIPTION:
DTSTART;TZID=America/Chicago:20250120T050000
DTEND;TZID=America/Chicago:20250120T050001
LOCATION:
SUMMARY:Closed for Martin Luther King Jr. Day!
END:VEVENT
END:VCALENDAR
