BEGIN:VCALENDAR
VERSION:2.0
PRODID:-//getmeout.org//NONSGML kigkonsult.se iCalcreator 2.30.10//
CALSCALE:GREGORIAN
METHOD:PUBLISH
UID:1f1634be-90d6-4464-9d1a-5c794386b2e2
X-WR-CALDESC:
X-WR-RELCALID:77f95685872994dc87c75f38e37906fb
X-WR-TIMEZONE:America/Chicago
BEGIN:VTIMEZONE
TZID:America/Chicago
BEGIN:STANDARD
TZNAME:CST
DTSTART:20241103T020000
TZOFFSETFROM:-0500
TZOFFSETTO:-0600
RDATE:20251102T020000
END:STANDARD
BEGIN:DAYLIGHT
TZNAME:CDT
DTSTART:20240310T020000
TZOFFSETFROM:-0600
TZOFFSETTO:-0500
RDATE:20250309T020000
RDATE:20260308T020000
END:DAYLIGHT
END:VTIMEZONE
BEGIN:VEVENT
UID:4b202f7c-4312-463e-965c-0623d71cb29b
DTSTAMP:20260422T091626Z
DESCRIPTION:
DTSTART;TZID=America/Chicago:20241225T050000
DTEND;TZID=America/Chicago:20241225T050001
LOCATION:
SUMMARY:Closed for Christmas Day!
END:VEVENT
END:VCALENDAR
