BEGIN:VCALENDAR
VERSION:2.0
PRODID:-//getmeout.org//NONSGML kigkonsult.se iCalcreator 2.30.10//
CALSCALE:GREGORIAN
METHOD:PUBLISH
UID:bed58160-f64b-4f81-ad46-477002736905
X-WR-CALDESC:
X-WR-RELCALID:3291848d9ba3541f239e6eef09387bce
X-WR-TIMEZONE:America/Chicago
BEGIN:VTIMEZONE
TZID:America/Chicago
BEGIN:STANDARD
TZNAME:CST
DTSTART:20241103T020000
TZOFFSETFROM:-0500
TZOFFSETTO:-0600
RDATE:20251102T020000
END:STANDARD
BEGIN:DAYLIGHT
TZNAME:CDT
DTSTART:20240310T020000
TZOFFSETFROM:-0600
TZOFFSETTO:-0500
RDATE:20250309T020000
RDATE:20260308T020000
END:DAYLIGHT
END:VTIMEZONE
BEGIN:VEVENT
UID:7a4f82fd-28cf-4f22-a807-6f0011fe9fca
DTSTAMP:20260422T091332Z
DESCRIPTION:
DTSTART;TZID=America/Chicago:20241224T050000
DTEND;TZID=America/Chicago:20241224T050001
LOCATION:HQ
SUMMARY:Closed for Christmas Eve!
END:VEVENT
END:VCALENDAR
