BEGIN:VCALENDAR
VERSION:2.0
PRODID:-//getmeout.org//NONSGML kigkonsult.se iCalcreator 2.30.10//
CALSCALE:GREGORIAN
METHOD:PUBLISH
UID:256dfd9b-c1c6-4106-84ac-d589c517bc2d
X-WR-CALDESC:
X-WR-RELCALID:93550db846bf469a11059df0a21ca437
X-WR-TIMEZONE:America/Chicago
BEGIN:VTIMEZONE
TZID:America/Chicago
BEGIN:STANDARD
TZNAME:CST
DTSTART:20231105T020000
TZOFFSETFROM:-0500
TZOFFSETTO:-0600
RDATE:20241103T020000
RDATE:20251102T020000
END:STANDARD
BEGIN:DAYLIGHT
TZNAME:CDT
DTSTART:20240310T020000
TZOFFSETFROM:-0600
TZOFFSETTO:-0500
RDATE:20250309T020000
RDATE:20260308T020000
END:DAYLIGHT
END:VTIMEZONE
BEGIN:VEVENT
UID:d9f8f322-8636-4fce-86f0-39226d976eec
DTSTAMP:20260422T123240Z
DESCRIPTION:
DTSTART;TZID=America/Chicago:20241014T050000
DTEND;TZID=America/Chicago:20241014T050001
LOCATION:
SUMMARY:Closed for Indigenous Peoples Day!
END:VEVENT
END:VCALENDAR
