BEGIN:VCALENDAR
VERSION:2.0
PRODID:-//getmeout.org//NONSGML kigkonsult.se iCalcreator 2.30.10//
CALSCALE:GREGORIAN
METHOD:PUBLISH
UID:b300c1b7-ccdc-45f8-89c7-d5f8d9dc17c7
X-WR-CALDESC:
X-WR-RELCALID:34701c3f5fd86b38ac712f214cd58042
X-WR-TIMEZONE:America/Chicago
BEGIN:VTIMEZONE
TZID:America/Chicago
BEGIN:STANDARD
TZNAME:CST
DTSTART:20231105T020000
TZOFFSETFROM:-0500
TZOFFSETTO:-0600
RDATE:20241103T020000
RDATE:20251102T020000
END:STANDARD
BEGIN:DAYLIGHT
TZNAME:CDT
DTSTART:20240310T020000
TZOFFSETFROM:-0600
TZOFFSETTO:-0500
RDATE:20250309T020000
END:DAYLIGHT
END:VTIMEZONE
BEGIN:VEVENT
UID:c0945807-6e95-405f-85b9-9e1b11dec2e2
DTSTAMP:20260422T141336Z
DESCRIPTION:
DTSTART;TZID=America/Chicago:20240902T050000
DTEND;TZID=America/Chicago:20240902T050001
LOCATION:
SUMMARY:Closed for Labor Day!
END:VEVENT
END:VCALENDAR
