BEGIN:VCALENDAR
VERSION:2.0
PRODID:-//getmeout.org//NONSGML kigkonsult.se iCalcreator 2.30.10//
CALSCALE:GREGORIAN
METHOD:PUBLISH
UID:e4d5b2c4-fe09-4041-b6a8-f9578f9bc6a5
X-WR-CALDESC:
X-WR-RELCALID:cb5b0b88f0b251ac7b9a47a6a183c827
X-WR-TIMEZONE:America/Chicago
BEGIN:VTIMEZONE
TZID:America/Chicago
BEGIN:STANDARD
TZNAME:CST
DTSTART:20231105T020000
TZOFFSETFROM:-0500
TZOFFSETTO:-0600
RDATE:20241103T020000
RDATE:20251102T020000
END:STANDARD
BEGIN:DAYLIGHT
TZNAME:CDT
DTSTART:20240310T020000
TZOFFSETFROM:-0600
TZOFFSETTO:-0500
RDATE:20250309T020000
END:DAYLIGHT
END:VTIMEZONE
BEGIN:VEVENT
UID:807830a0-5319-4aea-ac83-b33d87dcfd73
DTSTAMP:20260422T175549Z
DESCRIPTION:
DTSTART;TZID=America/Chicago:20240704T050000
DTEND;TZID=America/Chicago:20240704T050001
LOCATION:
SUMMARY:Closed for Fourth of July!
END:VEVENT
END:VCALENDAR
