BEGIN:VCALENDAR
VERSION:2.0
PRODID:-//getmeout.org//NONSGML kigkonsult.se iCalcreator 2.30.10//
CALSCALE:GREGORIAN
METHOD:PUBLISH
UID:c2cf15b0-d961-4148-ad2e-3ddac408ef40
X-WR-CALDESC:
X-WR-RELCALID:34a8058019c7089ed7c61aa58795b9ae
X-WR-TIMEZONE:America/Chicago
BEGIN:VTIMEZONE
TZID:America/Chicago
BEGIN:STANDARD
TZNAME:CST
DTSTART:20231105T020000
TZOFFSETFROM:-0500
TZOFFSETTO:-0600
RDATE:20241103T020000
RDATE:20251102T020000
END:STANDARD
BEGIN:DAYLIGHT
TZNAME:CDT
DTSTART:20240310T020000
TZOFFSETFROM:-0600
TZOFFSETTO:-0500
RDATE:20250309T020000
END:DAYLIGHT
END:VTIMEZONE
BEGIN:VEVENT
UID:5ebce3b7-8991-4255-9bbb-1398f2b74ffa
DTSTAMP:20260422T194225Z
DESCRIPTION:
DTSTART;TZID=America/Chicago:20240619T050000
DTEND;TZID=America/Chicago:20240619T050001
LOCATION:
SUMMARY:Closed for Juneteenth!
END:VEVENT
END:VCALENDAR
