BEGIN:VCALENDAR
VERSION:2.0
PRODID:-//getmeout.org//NONSGML kigkonsult.se iCalcreator 2.30.10//
CALSCALE:GREGORIAN
METHOD:PUBLISH
UID:29a61cdd-e2ca-4097-8f8d-827af7eec38e
X-WR-CALDESC:
X-WR-RELCALID:c33b15842d10c300b3cf461fea673417
X-WR-TIMEZONE:America/Chicago
BEGIN:VTIMEZONE
TZID:America/Chicago
BEGIN:STANDARD
TZNAME:CST
DTSTART:20231105T020000
TZOFFSETFROM:-0500
TZOFFSETTO:-0600
RDATE:20241103T020000
RDATE:20251102T020000
END:STANDARD
BEGIN:DAYLIGHT
TZNAME:CDT
DTSTART:20240310T020000
TZOFFSETFROM:-0600
TZOFFSETTO:-0500
RDATE:20250309T020000
END:DAYLIGHT
END:VTIMEZONE
BEGIN:VEVENT
UID:d02ba77c-36c9-44d7-b88c-41da5da50d5b
DTSTAMP:20260422T212944Z
DESCRIPTION:
DTSTART;TZID=America/Chicago:20240527T050000
DTEND;TZID=America/Chicago:20240527T050001
LOCATION:
SUMMARY:Closed for Memorial Day!
END:VEVENT
END:VCALENDAR
