BEGIN:VCALENDAR
VERSION:2.0
PRODID:-//getmeout.org//NONSGML kigkonsult.se iCalcreator 2.30.10//
CALSCALE:GREGORIAN
METHOD:PUBLISH
UID:5c11e7d2-b8c8-46c3-9cb6-c926387ec16b
X-WR-CALDESC:
X-WR-RELCALID:cdaae54ff26b73af143c1f12ac43ad9b
X-WR-TIMEZONE:America/Chicago
BEGIN:VTIMEZONE
TZID:America/Chicago
BEGIN:STANDARD
TZNAME:CST
DTSTART:20231105T020000
TZOFFSETFROM:-0500
TZOFFSETTO:-0600
RDATE:20241103T020000
END:STANDARD
BEGIN:DAYLIGHT
TZNAME:CDT
DTSTART:20230312T020000
TZOFFSETFROM:-0600
TZOFFSETTO:-0500
RDATE:20240310T020000
RDATE:20250309T020000
END:DAYLIGHT
END:VTIMEZONE
BEGIN:VEVENT
UID:91b22fb8-b4d6-48b3-9379-4ff5b80435ae
DTSTAMP:20260423T061037Z
DESCRIPTION:
DTSTART;TZID=America/Chicago:20231225T000000
DTEND;TZID=America/Chicago:20231225T235900
LOCATION:
SUMMARY:Christmas Day!
END:VEVENT
END:VCALENDAR
