BEGIN:VCALENDAR
VERSION:2.0
PRODID:-//getmeout.org//NONSGML kigkonsult.se iCalcreator 2.30.10//
CALSCALE:GREGORIAN
METHOD:PUBLISH
UID:a22ff636-585b-4e0b-bb41-adffa770e637
X-WR-CALDESC:
X-WR-RELCALID:f19caa0623fe074c7667e0579c436900
X-WR-TIMEZONE:America/Chicago
BEGIN:VTIMEZONE
TZID:America/Chicago
BEGIN:STANDARD
TZNAME:CST
DTSTART:20221106T020000
TZOFFSETFROM:-0500
TZOFFSETTO:-0600
RDATE:20231105T020000
RDATE:20241103T020000
END:STANDARD
BEGIN:DAYLIGHT
TZNAME:CDT
DTSTART:20230312T020000
TZOFFSETFROM:-0600
TZOFFSETTO:-0500
RDATE:20240310T020000
RDATE:20250309T020000
END:DAYLIGHT
END:VTIMEZONE
BEGIN:VEVENT
UID:7e3e5f21-6fac-4cb2-833a-d38137716390
DTSTAMP:20260423T092928Z
DESCRIPTION:
DTSTART;TZID=America/Chicago:20231001T000000
DTEND;TZID=America/Chicago:20231031T235900
LOCATION:
SUMMARY:Domestic Violence Awareness Month!
END:VEVENT
END:VCALENDAR
