BEGIN:VCALENDAR
VERSION:2.0
PRODID:-//getmeout.org//NONSGML kigkonsult.se iCalcreator 2.30.10//
CALSCALE:GREGORIAN
METHOD:PUBLISH
UID:2888a449-5930-4490-8db7-3268596919fc
X-WR-CALDESC:
X-WR-RELCALID:2fc3d5f65305d4703d8001335e1a6642
X-WR-TIMEZONE:America/Chicago
BEGIN:VTIMEZONE
TZID:America/Chicago
BEGIN:STANDARD
TZNAME:CST
DTSTART:20221106T020000
TZOFFSETFROM:-0500
TZOFFSETTO:-0600
RDATE:20231105T020000
RDATE:20241103T020000
END:STANDARD
BEGIN:DAYLIGHT
TZNAME:CDT
DTSTART:20230312T020000
TZOFFSETFROM:-0600
TZOFFSETTO:-0500
RDATE:20240310T020000
RDATE:20250309T020000
END:DAYLIGHT
END:VTIMEZONE
BEGIN:VEVENT
UID:7f996134-9d6e-4d51-8080-acd4dbf84f02
DTSTAMP:20260423T092800Z
DESCRIPTION:
DTSTART;TZID=America/Chicago:20231031T000000
DTEND;TZID=America/Chicago:20231031T235900
LOCATION:
SUMMARY:Halloween
END:VEVENT
END:VCALENDAR
