BEGIN:VCALENDAR
VERSION:2.0
PRODID:-//getmeout.org//NONSGML kigkonsult.se iCalcreator 2.30.10//
CALSCALE:GREGORIAN
METHOD:PUBLISH
UID:248df00f-c479-4493-a4ce-77ac720633e4
X-WR-CALDESC:
X-WR-RELCALID:7b18bceed21e323802a45511bb93f638
X-WR-TIMEZONE:America/Chicago
BEGIN:VTIMEZONE
TZID:America/Chicago
BEGIN:STANDARD
TZNAME:CST
DTSTART:20221106T020000
TZOFFSETFROM:-0500
TZOFFSETTO:-0600
RDATE:20231105T020000
RDATE:20241103T020000
END:STANDARD
BEGIN:DAYLIGHT
TZNAME:CDT
DTSTART:20230312T020000
TZOFFSETFROM:-0600
TZOFFSETTO:-0500
RDATE:20240310T020000
RDATE:20250309T020000
END:DAYLIGHT
END:VTIMEZONE
BEGIN:VEVENT
UID:6e9cd1c1-066a-48e0-954a-e77d899bb70b
DTSTAMP:20260423T093142Z
DESCRIPTION:
DTSTART;TZID=America/Chicago:20231025T163000
DTEND;TZID=America/Chicago:20231025T180000
LOCATION:NE Technology Center\, Afton Campus\, 19901 S Hwy 69\, Afton\, OK 
 74331
SUMMARY:October Board Meeting
END:VEVENT
END:VCALENDAR
