BEGIN:VCALENDAR
VERSION:2.0
PRODID:-//getmeout.org//NONSGML kigkonsult.se iCalcreator 2.30.10//
CALSCALE:GREGORIAN
METHOD:PUBLISH
UID:699abbb3-fee8-425c-b8a8-ef79b908a6d8
X-WR-CALDESC:Join us for this year's Caring Hands Luncheon! The event will 
 include a guest speaker and catered lunch. All proceeds benefit no-cost se
 rvices to local victims of domestic violence\, sexual assault and stalking
 .
X-WR-RELCALID:100edfb82e7a5f57f8ecca1e61a8ed66
X-WR-TIMEZONE:America/Chicago
BEGIN:VTIMEZONE
TZID:America/Chicago
BEGIN:STANDARD
TZNAME:CST
DTSTART:20221106T020000
TZOFFSETFROM:-0500
TZOFFSETTO:-0600
RDATE:20231105T020000
RDATE:20241103T020000
END:STANDARD
BEGIN:DAYLIGHT
TZNAME:CDT
DTSTART:20230312T020000
TZOFFSETFROM:-0600
TZOFFSETTO:-0500
RDATE:20240310T020000
RDATE:20250309T020000
END:DAYLIGHT
END:VTIMEZONE
BEGIN:VEVENT
UID:158f9b95-1f65-4a4d-9b9e-d65fdf4b16dc
DTSTAMP:20260423T093055Z
DESCRIPTION:Join us for this year's Caring Hands Luncheon! The event will i
 nclude a guest speaker and catered lunch. All proceeds benefit no-cost ser
 vices to local victims of domestic violence\, sexual assault and stalking.
DTSTART;TZID=America/Chicago:20231019T120000
DTEND;TZID=America/Chicago:20231019T130000
LOCATION:Coleman Ballroom
SUMMARY:Caring Hands Luncheon - Miami
END:VEVENT
END:VCALENDAR
