BEGIN:VCALENDAR
VERSION:2.0
PRODID:-//getmeout.org//NONSGML kigkonsult.se iCalcreator 2.30.10//
CALSCALE:GREGORIAN
METHOD:PUBLISH
UID:6cef63c6-94dc-4510-9b5d-f6ef35d26838
X-WR-CALDESC:
X-WR-RELCALID:b702821ca148512d565ec29616d9c709
X-WR-TIMEZONE:America/Chicago
BEGIN:VTIMEZONE
TZID:America/Chicago
BEGIN:STANDARD
TZNAME:CST
DTSTART:20221106T020000
TZOFFSETFROM:-0500
TZOFFSETTO:-0600
RDATE:20231105T020000
RDATE:20241103T020000
END:STANDARD
BEGIN:DAYLIGHT
TZNAME:CDT
DTSTART:20230312T020000
TZOFFSETFROM:-0600
TZOFFSETTO:-0500
RDATE:20240310T020000
END:DAYLIGHT
END:VTIMEZONE
BEGIN:VEVENT
UID:562f9762-c65b-45f1-9482-902efbc63cb9
DTSTAMP:20260423T111341Z
DESCRIPTION:
DTSTART;TZID=America/Chicago:20230904T000000
DTEND;TZID=America/Chicago:20230904T235900
LOCATION:
SUMMARY:Closed for Labor Day!
END:VEVENT
END:VCALENDAR
