BEGIN:VCALENDAR
VERSION:2.0
PRODID:-//getmeout.org//NONSGML kigkonsult.se iCalcreator 2.30.10//
CALSCALE:GREGORIAN
METHOD:PUBLISH
UID:dfe1d15c-8e6f-4613-881c-8717281bf172
X-WR-CALDESC:
X-WR-RELCALID:1fea0b695342343f1ad562ae07af927d
X-WR-TIMEZONE:America/Chicago
BEGIN:VTIMEZONE
TZID:America/Chicago
BEGIN:STANDARD
TZNAME:CST
DTSTART:20221106T020000
TZOFFSETFROM:-0500
TZOFFSETTO:-0600
RDATE:20231105T020000
RDATE:20241103T020000
END:STANDARD
BEGIN:DAYLIGHT
TZNAME:CDT
DTSTART:20230312T020000
TZOFFSETFROM:-0600
TZOFFSETTO:-0500
RDATE:20240310T020000
END:DAYLIGHT
END:VTIMEZONE
BEGIN:VEVENT
UID:a11f51e9-660e-4dc1-a676-4dd6c7379995
DTSTAMP:20260423T143244Z
DESCRIPTION:
DTSTART;TZID=America/Chicago:20230726T163000
DTEND;TZID=America/Chicago:20230726T180000
LOCATION:NE Technology Center\, Afton Campus\, 19901 S Hwy 69\, Afton\, OK 
 74331
SUMMARY:July Board Meeting
END:VEVENT
END:VCALENDAR
