BEGIN:VCALENDAR
VERSION:2.0
PRODID:-//getmeout.org//NONSGML kigkonsult.se iCalcreator 2.30.10//
CALSCALE:GREGORIAN
METHOD:PUBLISH
UID:0ea8fad2-cf4e-4226-807a-1fd1c239ee17
X-WR-CALDESC:
X-WR-RELCALID:2fa48d43cc309384abefa3fd160e3637
X-WR-TIMEZONE:America/Chicago
BEGIN:VTIMEZONE
TZID:America/Chicago
BEGIN:STANDARD
TZNAME:CST
DTSTART:20221106T020000
TZOFFSETFROM:-0500
TZOFFSETTO:-0600
RDATE:20231105T020000
END:STANDARD
BEGIN:DAYLIGHT
TZNAME:CDT
DTSTART:20230312T020000
TZOFFSETFROM:-0600
TZOFFSETTO:-0500
RDATE:20240310T020000
END:DAYLIGHT
END:VTIMEZONE
BEGIN:VEVENT
UID:d7590504-537e-476d-bbf3-d8260e9b5072
DTSTAMP:20260423T192440Z
DESCRIPTION:
DTSTART;TZID=America/Chicago:20230410T170000
DTEND;TZID=America/Chicago:20230410T190000
LOCATION:Harril/Dobson Hall @ NEO AM College
SUMMARY:See us at NEO!
END:VEVENT
END:VCALENDAR
