BEGIN:VCALENDAR
VERSION:2.0
PRODID:-//getmeout.org//NONSGML kigkonsult.se iCalcreator 2.30.10//
CALSCALE:GREGORIAN
METHOD:PUBLISH
UID:d48226cb-9f63-40c3-9dcb-c5face22d61d
X-WR-CALDESC:
X-WR-RELCALID:c1af31c8d151089ae8308965d5cfdeb5
X-WR-TIMEZONE:America/Chicago
BEGIN:VTIMEZONE
TZID:America/Chicago
BEGIN:STANDARD
TZNAME:CST
DTSTART:20221106T020000
TZOFFSETFROM:-0500
TZOFFSETTO:-0600
RDATE:20231105T020000
END:STANDARD
BEGIN:DAYLIGHT
TZNAME:CDT
DTSTART:20230312T020000
TZOFFSETFROM:-0600
TZOFFSETTO:-0500
RDATE:20240310T020000
END:DAYLIGHT
END:VTIMEZONE
BEGIN:VEVENT
UID:ba8f6b56-23c7-4bb4-9032-1cf559f378e2
DTSTAMP:20260423T192403Z
DESCRIPTION:
DTSTART;TZID=America/Chicago:20230407T000000
DTEND;TZID=America/Chicago:20230407T235900
LOCATION:
SUMMARY:Closed for Good Friday!
END:VEVENT
END:VCALENDAR
