BEGIN:VCALENDAR
VERSION:2.0
PRODID:-//getmeout.org//NONSGML kigkonsult.se iCalcreator 2.30.10//
CALSCALE:GREGORIAN
METHOD:PUBLISH
UID:ec88b1f7-4337-438a-a49c-445ce20e1448
X-WR-CALDESC:
X-WR-RELCALID:a6c90a572f37167ae9bd4889cb459571
X-WR-TIMEZONE:America/Chicago
BEGIN:VTIMEZONE
TZID:America/Chicago
BEGIN:STANDARD
TZNAME:CST
DTSTART:20221106T020000
TZOFFSETFROM:-0500
TZOFFSETTO:-0600
RDATE:20231105T020000
END:STANDARD
BEGIN:DAYLIGHT
TZNAME:CDT
DTSTART:20220313T020000
TZOFFSETFROM:-0600
TZOFFSETTO:-0500
RDATE:20230312T020000
RDATE:20240310T020000
END:DAYLIGHT
END:VTIMEZONE
BEGIN:VEVENT
UID:2d490212-e87e-4df6-aa9b-68e037f6ec1a
DTSTAMP:20260423T222216Z
DESCRIPTION:
DTSTART;TZID=America/Chicago:20230220T000000
DTEND;TZID=America/Chicago:20230220T235900
LOCATION:
SUMMARY:Closed for President's Day!
END:VEVENT
END:VCALENDAR
