BEGIN:VCALENDAR
VERSION:2.0
PRODID:-//getmeout.org//NONSGML kigkonsult.se iCalcreator 2.30.10//
CALSCALE:GREGORIAN
METHOD:PUBLISH
UID:d202bcd4-eea1-4e18-b88b-dec95e249a11
X-WR-CALDESC:
X-WR-RELCALID:9eb3f88edfe088070fbedfe5b66ac4f3
X-WR-TIMEZONE:America/Chicago
BEGIN:VTIMEZONE
TZID:America/Chicago
BEGIN:STANDARD
TZNAME:CST
DTSTART:20221106T020000
TZOFFSETFROM:-0500
TZOFFSETTO:-0600
RDATE:20231105T020000
END:STANDARD
BEGIN:DAYLIGHT
TZNAME:CDT
DTSTART:20220313T020000
TZOFFSETFROM:-0600
TZOFFSETTO:-0500
RDATE:20230312T020000
RDATE:20240310T020000
END:DAYLIGHT
END:VTIMEZONE
BEGIN:VEVENT
UID:eb7db450-7893-4baa-aa4f-486ad71c7e4e
DTSTAMP:20260424T000357Z
DESCRIPTION:
DTSTART;TZID=America/Chicago:20230130T170000
DTEND;TZID=America/Chicago:20230130T190000
LOCATION:Harril/Dobson Hall @ NEO AM College
SUMMARY:See us at NEO!
END:VEVENT
END:VCALENDAR
