BEGIN:VCALENDAR
VERSION:2.0
PRODID:-//getmeout.org//NONSGML kigkonsult.se iCalcreator 2.30.10//
CALSCALE:GREGORIAN
METHOD:PUBLISH
UID:39e8bff5-f78b-4ddf-a699-5dbabb0be27a
X-WR-CALDESC:
X-WR-RELCALID:ef1a2a0ad0cf6cd51607a31f9043c5b0
X-WR-TIMEZONE:America/Chicago
BEGIN:VTIMEZONE
TZID:America/Chicago
BEGIN:STANDARD
TZNAME:CST
DTSTART:20221106T020000
TZOFFSETFROM:-0500
TZOFFSETTO:-0600
RDATE:20231105T020000
END:STANDARD
BEGIN:DAYLIGHT
TZNAME:CDT
DTSTART:20220313T020000
TZOFFSETFROM:-0600
TZOFFSETTO:-0500
RDATE:20230312T020000
RDATE:20240310T020000
END:DAYLIGHT
END:VTIMEZONE
BEGIN:VEVENT
UID:1f99649f-c847-424e-84be-44ebcf4839bc
DTSTAMP:20260424T000130Z
DESCRIPTION:
DTSTART;TZID=America/Chicago:20230102T000000
DTEND;TZID=America/Chicago:20230102T235900
LOCATION:
SUMMARY:Closed in observance for the New Year!
END:VEVENT
END:VCALENDAR
