BEGIN:VCALENDAR
VERSION:2.0
PRODID:-//getmeout.org//NONSGML kigkonsult.se iCalcreator 2.30.10//
CALSCALE:GREGORIAN
METHOD:PUBLISH
UID:be666e5e-0b10-4f98-91fb-06c5b2e8e82f
X-WR-CALDESC:
X-WR-RELCALID:82063767fa4267e049d4186b3c381734
X-WR-TIMEZONE:America/Chicago
BEGIN:VTIMEZONE
TZID:America/Chicago
BEGIN:STANDARD
TZNAME:CST
DTSTART:20221106T020000
TZOFFSETFROM:-0500
TZOFFSETTO:-0600
RDATE:20231105T020000
END:STANDARD
BEGIN:DAYLIGHT
TZNAME:CDT
DTSTART:20220313T020000
TZOFFSETFROM:-0600
TZOFFSETTO:-0500
RDATE:20230312T020000
RDATE:20240310T020000
END:DAYLIGHT
END:VTIMEZONE
BEGIN:VEVENT
UID:48d7aaa0-b595-4306-bb12-2d7fa022cecc
DTSTAMP:20260424T032306Z
DESCRIPTION:
DTSTART;TZID=America/Chicago:20221124T000000
DTEND;TZID=America/Chicago:20221124T235900
LOCATION:
SUMMARY:Closed for Thanksgiving!
END:VEVENT
END:VCALENDAR
