BEGIN:VCALENDAR
VERSION:2.0
PRODID:-//getmeout.org//NONSGML kigkonsult.se iCalcreator 2.30.10//
CALSCALE:GREGORIAN
METHOD:PUBLISH
UID:81cb1152-e33e-4266-99cc-0e6584469913
X-WR-CALDESC:Join us for this year's Caring Hands Luncheon! The event will 
 include a guest speaker and catered lunch. All proceeds benefit no-cost se
 rvices to local victims of domestic violence\, sexual assault and stalking
 .
X-WR-RELCALID:5c85b08cc47b3ca03033d9fe2cbdf674
X-WR-TIMEZONE:America/Chicago
BEGIN:VTIMEZONE
TZID:America/Chicago
BEGIN:STANDARD
TZNAME:CST
DTSTART:20211107T020000
TZOFFSETFROM:-0500
TZOFFSETTO:-0600
RDATE:20221106T020000
RDATE:20231105T020000
END:STANDARD
BEGIN:DAYLIGHT
TZNAME:CDT
DTSTART:20220313T020000
TZOFFSETFROM:-0600
TZOFFSETTO:-0500
RDATE:20230312T020000
RDATE:20240310T020000
END:DAYLIGHT
END:VTIMEZONE
BEGIN:VEVENT
UID:a7ec821e-4bff-44b7-9393-5f2da4546e0f
DTSTAMP:20260424T045403Z
DESCRIPTION:Join us for this year's Caring Hands Luncheon! The event will i
 nclude a guest speaker and catered lunch. All proceeds benefit no-cost ser
 vices to local victims of domestic violence\, sexual assault and stalking.
DTSTART;TZID=America/Chicago:20221027T120000
DTEND;TZID=America/Chicago:20221027T130000
LOCATION:Venue 29 Miami
SUMMARY:Miami Caring Hands Luncheon!
END:VEVENT
END:VCALENDAR
