BEGIN:VCALENDAR
VERSION:2.0
PRODID:-//getmeout.org//NONSGML kigkonsult.se iCalcreator 2.30.10//
CALSCALE:GREGORIAN
METHOD:PUBLISH
UID:2cefb448-cc7f-404c-ac79-537ccc724d7d
X-WR-CALDESC:Join us by wearing purple on October 21st to show support and 
 solidarity for victims of domestic violence.
X-WR-RELCALID:c5989de2fb7a04e279f8679ea8165cb1
X-WR-TIMEZONE:America/Chicago
BEGIN:VTIMEZONE
TZID:America/Chicago
BEGIN:STANDARD
TZNAME:CST
DTSTART:20211107T020000
TZOFFSETFROM:-0500
TZOFFSETTO:-0600
RDATE:20221106T020000
RDATE:20231105T020000
END:STANDARD
BEGIN:DAYLIGHT
TZNAME:CDT
DTSTART:20220313T020000
TZOFFSETFROM:-0600
TZOFFSETTO:-0500
RDATE:20230312T020000
RDATE:20240310T020000
END:DAYLIGHT
END:VTIMEZONE
BEGIN:VEVENT
UID:8fc8e8d3-2f12-42ba-a5b3-4108fa0b6f44
DTSTAMP:20260424T045801Z
DESCRIPTION:Join us by wearing purple on October 21st to show support and s
 olidarity for victims of domestic violence.
DTSTART;TZID=America/Chicago:20221021T000000
DTEND;TZID=America/Chicago:20221021T235900
LOCATION:
SUMMARY:National Wear Purple Day
END:VEVENT
END:VCALENDAR
