BEGIN:VCALENDAR
VERSION:2.0
PRODID:-//getmeout.org//NONSGML kigkonsult.se iCalcreator 2.30.10//
CALSCALE:GREGORIAN
METHOD:PUBLISH
UID:b76b7f51-db65-4635-95bc-bacdb4f79ec3
X-WR-CALDESC:Thank you to our many wonderful volunteers!  Watch our social 
 media all month for volunteer spotlights. We'll also be sending out a spec
 ial gift to all current volunteers.
X-WR-RELCALID:401257c91f2da16cba2d37c6f00a4f56
X-WR-TIMEZONE:America/Chicago
BEGIN:VTIMEZONE
TZID:America/Chicago
BEGIN:STANDARD
TZNAME:CST
DTSTART:20211107T020000
TZOFFSETFROM:-0500
TZOFFSETTO:-0600
RDATE:20221106T020000
END:STANDARD
BEGIN:DAYLIGHT
TZNAME:CDT
DTSTART:20220313T020000
TZOFFSETFROM:-0600
TZOFFSETTO:-0500
RDATE:20230312T020000
END:DAYLIGHT
END:VTIMEZONE
BEGIN:VEVENT
UID:38618ffe-1f50-4a02-b223-2ceab16d74f9
DTSTAMP:20260424T143244Z
DESCRIPTION:Thank you to our many wonderful volunteers!  Watch our social m
 edia all month for volunteer spotlights. We'll also be sending out a speci
 al gift to all current volunteers.
DTSTART;TZID=America/Chicago:20220401T100000
DTEND;TZID=America/Chicago:20220430T110000
LOCATION:
SUMMARY:Volunteer Appreciation Month
END:VEVENT
END:VCALENDAR
