BEGIN:VCALENDAR
VERSION:2.0
PRODID:-//getmeout.org//NONSGML kigkonsult.se iCalcreator 2.30.10//
CALSCALE:GREGORIAN
METHOD:PUBLISH
UID:5cc40062-8f9d-4efc-86b3-8056db36eaa4
X-WR-CALDESC:Join us in standing with local survivors of sexual assault thi
 s Sexual Assault Awareness Month! Stayed tuned to our social media for upd
 ated information on events and awareness activities.
X-WR-RELCALID:d305661ac331f538c418422171c26458
X-WR-TIMEZONE:America/Chicago
BEGIN:VTIMEZONE
TZID:America/Chicago
BEGIN:STANDARD
TZNAME:CST
DTSTART:20211107T020000
TZOFFSETFROM:-0500
TZOFFSETTO:-0600
RDATE:20221106T020000
END:STANDARD
BEGIN:DAYLIGHT
TZNAME:CDT
DTSTART:20220313T020000
TZOFFSETFROM:-0600
TZOFFSETTO:-0500
RDATE:20230312T020000
END:DAYLIGHT
END:VTIMEZONE
BEGIN:VEVENT
UID:cf4878c9-cbcc-40da-b002-bc5e04a74c68
DTSTAMP:20260424T143449Z
DESCRIPTION:Join us in standing with local survivors of sexual assault this
  Sexual Assault Awareness Month! Stayed tuned to our social media for upda
 ted information on events and awareness activities.
DTSTART;TZID=America/Chicago:20220401T080000
DTEND;TZID=America/Chicago:20220430T170000
LOCATION:
SUMMARY:Sexual Assault Awareness Month
END:VEVENT
END:VCALENDAR
