BEGIN:VCALENDAR
VERSION:2.0
PRODID:-//getmeout.org//NONSGML kigkonsult.se iCalcreator 2.30.10//
CALSCALE:GREGORIAN
METHOD:PUBLISH
UID:3864a2fb-d12d-44bf-a623-ab8783e2d7f8
X-WR-CALDESC:Join us by wearing Denim Day to show solidarity for survivors 
 of sexual assault. There is NEVER an excuse to assault another person. \n
 \nFor more information\, call 918-787-5381 or email info@getmeout.org
X-WR-RELCALID:6232a29210fbbb381f1faf3af22fa74e
X-WR-TIMEZONE:America/Chicago
BEGIN:VTIMEZONE
TZID:America/Chicago
BEGIN:STANDARD
TZNAME:CST
DTSTART:20211107T020000
TZOFFSETFROM:-0500
TZOFFSETTO:-0600
RDATE:20221106T020000
END:STANDARD
BEGIN:DAYLIGHT
TZNAME:CDT
DTSTART:20220313T020000
TZOFFSETFROM:-0600
TZOFFSETTO:-0500
RDATE:20230312T020000
END:DAYLIGHT
END:VTIMEZONE
BEGIN:VEVENT
UID:8adc6518-dadd-405a-9fac-4f565b32f890
DTSTAMP:20260424T142953Z
DESCRIPTION:Join us by wearing Denim Day to show solidarity for survivors o
 f sexual assault. There is NEVER an excuse to assault another person. \n\n
 For more information\, call 918-787-5381 or email info@getmeout.org
DTSTART;TZID=America/Chicago:20220427T080000
DTEND;TZID=America/Chicago:20220427T170000
LOCATION:
SUMMARY:National Denim Day
END:VEVENT
END:VCALENDAR
