BEGIN:VCALENDAR
VERSION:2.0
PRODID:-//getmeout.org//NONSGML kigkonsult.se iCalcreator 2.30.10//
CALSCALE:GREGORIAN
METHOD:PUBLISH
UID:4424b00f-d0dd-4027-8abf-aa2916790599
X-WR-CALDESC:Shop our Popcornopolis Pop Up Shop during our fundraising wind
 ow and 50% or your purchase will support CCC services. They have delicious
  popcorn that's perfect for road trips\, camping\, the ball fields or movi
 e night at home.
X-WR-RELCALID:045eee3f8cd669bb7f32e264bd363ded
X-WR-TIMEZONE:America/Chicago
BEGIN:VTIMEZONE
TZID:America/Chicago
BEGIN:STANDARD
TZNAME:CST
DTSTART:20211107T020000
TZOFFSETFROM:-0500
TZOFFSETTO:-0600
RDATE:20221106T020000
END:STANDARD
BEGIN:DAYLIGHT
TZNAME:CDT
DTSTART:20220313T020000
TZOFFSETFROM:-0600
TZOFFSETTO:-0500
RDATE:20230312T020000
END:DAYLIGHT
END:VTIMEZONE
BEGIN:VEVENT
UID:f5b5bceb-20cd-4f16-89b3-55bbcac618d1
DTSTAMP:20260424T161036Z
DESCRIPTION:Shop our Popcornopolis Pop Up Shop during our fundraising windo
 w and 50% or your purchase will support CCC services. They have delicious 
 popcorn that's perfect for road trips\, camping\, the ball fields or movie
  night at home.
DTSTART;TZID=America/Chicago:20220324T000000
DTEND;TZID=America/Chicago:20220331T233000
LOCATION:
SUMMARY:Popcornopolis Fundraiser
END:VEVENT
END:VCALENDAR
