BEGIN:VCALENDAR
VERSION:2.0
PRODID:-//getmeout.org//NONSGML kigkonsult.se iCalcreator 2.30.10//
CALSCALE:GREGORIAN
METHOD:PUBLISH
UID:fc3b6652-e7bb-4e82-b866-118329c77854
X-WR-CALDESC:We believe every person deserves to feel safe in their home an
 d relationship. Join us in celebrating 40 years of life saving services. D
 oors open at 11:30\, program from 12-1. Lunch catered by Piguet's Prime Ti
 me. Online auction. There are a limited number of tickets\, pre-sale only.
 \n\nAll proceeds benefits victims of domestic violence\, sexual assault\, 
 and stalking through Community Crisis Center Services thanks to our genero
 us sponsors. Can't join us in person? Purchase a 'virtual ticket' to still
  contribute to the cause! You'll still have access to the auction and prog
 ram.
X-WR-RELCALID:d0238e2a40fb5c828c1788444c5871e3
X-WR-TIMEZONE:America/Chicago
BEGIN:VTIMEZONE
TZID:America/Chicago
BEGIN:STANDARD
TZNAME:CST
DTSTART:20201101T020000
TZOFFSETFROM:-0500
TZOFFSETTO:-0600
RDATE:20211107T020000
RDATE:20221106T020000
END:STANDARD
BEGIN:DAYLIGHT
TZNAME:CDT
DTSTART:20210314T020000
TZOFFSETFROM:-0600
TZOFFSETTO:-0500
RDATE:20220313T020000
RDATE:20230312T020000
END:DAYLIGHT
END:VTIMEZONE
BEGIN:VEVENT
UID:8848c6df-46f0-47a3-a114-df1b3b37d9a2
DTSTAMP:20260425T002940Z
DESCRIPTION:We believe every person deserves to feel safe in their home and
  relationship. Join us in celebrating 40 years of life saving services. Do
 ors open at 11:30\, program from 12-1. Lunch catered by Piguet's Prime Tim
 e. Online auction. There are a limited number of tickets\, pre-sale only.
 \n\nAll proceeds benefits victims of domestic violence\, sexual assault\, 
 and stalking through Community Crisis Center Services thanks to our genero
 us sponsors. Can't join us in person? Purchase a 'virtual ticket' to still
  contribute to the cause! You'll still have access to the auction and prog
 ram.
DTSTART;TZID=America/Chicago:20211026T120000
DTEND;TZID=America/Chicago:20211026T130000
LOCATION:Craig County Fairgrounds\, 915 E Apperson Rd Vinita\, OK
SUMMARY:Vinita Caring Hands Luncheon
END:VEVENT
END:VCALENDAR
