BEGIN:VCALENDAR
VERSION:2.0
PRODID:-//getmeout.org//NONSGML kigkonsult.se iCalcreator 2.30.10//
CALSCALE:GREGORIAN
METHOD:PUBLISH
UID:d05f22f3-4aac-4d33-97f9-d5eaf3c1026f
X-WR-CALDESC:We believe every person deserves to feel safe in their home an
 d relationship. Join us in celebrating 40 years of life saving services. D
 oors open at 11:30\, program from 12-1. Lunch catered by Piguet's Prime Ti
 me. Online auction. There are a limited number of tickets\, pre-sale only.
 \n\nAll proceeds benefits victims of domestic violence\, sexual assault\, 
 and stalking through Community Crisis Center Services thanks to our genero
 us sponsors. Can't join us in person? Purchase a 'virtual ticket' to still
  contribute to the cause! You'll still have access to the auction and prog
 ram.
X-WR-RELCALID:53ea3e0e555c8d82a65112a022e55a25
X-WR-TIMEZONE:America/Chicago
BEGIN:VTIMEZONE
TZID:America/Chicago
BEGIN:STANDARD
TZNAME:CST
DTSTART:20201101T020000
TZOFFSETFROM:-0500
TZOFFSETTO:-0600
RDATE:20211107T020000
RDATE:20221106T020000
END:STANDARD
BEGIN:DAYLIGHT
TZNAME:CDT
DTSTART:20210314T020000
TZOFFSETFROM:-0600
TZOFFSETTO:-0500
RDATE:20220313T020000
RDATE:20230312T020000
END:DAYLIGHT
END:VTIMEZONE
BEGIN:VEVENT
UID:7f9760e5-dadc-49ee-9634-5fada3268f13
DTSTAMP:20260425T002303Z
DESCRIPTION:We believe every person deserves to feel safe in their home and
  relationship. Join us in celebrating 40 years of life saving services. Do
 ors open at 11:30\, program from 12-1. Lunch catered by Piguet's Prime Tim
 e. Online auction. There are a limited number of tickets\, pre-sale only.
 \n\nAll proceeds benefits victims of domestic violence\, sexual assault\, 
 and stalking through Community Crisis Center Services thanks to our genero
 us sponsors. Can't join us in person? Purchase a 'virtual ticket' to still
  contribute to the cause! You'll still have access to the auction and prog
 ram.
DTSTART;TZID=America/Chicago:20211021T120000
DTEND;TZID=America/Chicago:20211021T130000
LOCATION:Venue 29\, 29 S Main Street Miami\, OK
SUMMARY:Miami Caring Hands Luncheon
END:VEVENT
END:VCALENDAR
