BEGIN:VCALENDAR
VERSION:2.0
PRODID:-//getmeout.org//NONSGML kigkonsult.se iCalcreator 2.30.10//
CALSCALE:GREGORIAN
METHOD:PUBLISH
UID:a2eaa1b4-3af5-4c96-b802-e521c3819648
X-WR-CALDESC:We believe every person deserves to feel safe in their home an
 d relationship. Join us in celebrating 40 years of life saving services. D
 oors open at 11:30\, program from 12-1. Lunch catered by Piguet's Prime Ti
 me. Online auction. There are a limited number of tickets\, pre-sale only.
 \n\nAll proceeds benefits victims of domestic violence\, sexual assault\, 
 and stalking through Community Crisis Center Services thanks to our genero
 us sponsors. Can't join us in person? Purchase a 'virtual ticket' to still
  contribute to the cause! You'll still have access to the auction and prog
 ram.
X-WR-RELCALID:14d26fdaad6a8ec5ec82c8ad04413084
X-WR-TIMEZONE:America/Chicago
BEGIN:VTIMEZONE
TZID:America/Chicago
BEGIN:STANDARD
TZNAME:CST
DTSTART:20201101T020000
TZOFFSETFROM:-0500
TZOFFSETTO:-0600
RDATE:20211107T020000
RDATE:20221106T020000
END:STANDARD
BEGIN:DAYLIGHT
TZNAME:CDT
DTSTART:20210314T020000
TZOFFSETFROM:-0600
TZOFFSETTO:-0500
RDATE:20220313T020000
RDATE:20230312T020000
END:DAYLIGHT
END:VTIMEZONE
BEGIN:VEVENT
UID:998c5268-86a9-4a49-86ee-388d8bfbc838
DTSTAMP:20260425T002746Z
DESCRIPTION:We believe every person deserves to feel safe in their home and
  relationship. Join us in celebrating 40 years of life saving services. Do
 ors open at 11:30\, program from 12-1. Lunch catered by Piguet's Prime Tim
 e. Online auction. There are a limited number of tickets\, pre-sale only.
 \n\nAll proceeds benefits victims of domestic violence\, sexual assault\, 
 and stalking through Community Crisis Center Services thanks to our genero
 us sponsors. Can't join us in person? Purchase a 'virtual ticket' to still
  contribute to the cause! You'll still have access to the auction and prog
 ram.
DTSTART;TZID=America/Chicago:20211019T120000
DTEND;TZID=America/Chicago:20211019T130000
LOCATION:FUMC 1005 Leisure Rd\, Grove\, OK
SUMMARY:Grove Caring Hands Luncheon
END:VEVENT
END:VCALENDAR
