BEGIN:VCALENDAR
VERSION:2.0
PRODID:-//getmeout.org//NONSGML kigkonsult.se iCalcreator 2.30.10//
CALSCALE:GREGORIAN
METHOD:PUBLISH
UID:9e1f32df-33a3-4b70-87a7-d2eebeafc68b
X-WR-CALDESC:
X-WR-RELCALID:f7219ad15b3926c88652319c0cf24260
X-WR-TIMEZONE:America/Chicago
BEGIN:VTIMEZONE
TZID:America/Chicago
BEGIN:STANDARD
TZNAME:CST
DTSTART:20231105T020000
TZOFFSETFROM:-0500
TZOFFSETTO:-0600
RDATE:20241103T020000
END:STANDARD
BEGIN:DAYLIGHT
TZNAME:CDT
DTSTART:20240310T020000
TZOFFSETFROM:-0600
TZOFFSETTO:-0500
RDATE:20250309T020000
END:DAYLIGHT
END:VTIMEZONE
BEGIN:VEVENT
UID:fb332fdc-44c0-4d90-8c9e-c8f77e2eac96
DTSTAMP:20260419T144952Z
DESCRIPTION:
DTSTART;TZID=America/Chicago:20240329T050000
DTEND;TZID=America/Chicago:20240329T050001
LOCATION:
SUMMARY:Closed for Good Friday!
END:VEVENT
END:VCALENDAR
