BEGIN:VCALENDAR
VERSION:2.0
PRODID:-//getmeout.org//NONSGML kigkonsult.se iCalcreator 2.30.10//
CALSCALE:GREGORIAN
METHOD:PUBLISH
UID:013e6b19-510c-4ff1-a2be-b0d8e0b34359
X-WR-CALDESC:
X-WR-RELCALID:3a44a57203a40c307d2db353e9c6fdb5
X-WR-TIMEZONE:America/Chicago
BEGIN:VTIMEZONE
TZID:America/Chicago
BEGIN:STANDARD
TZNAME:CST
DTSTART:20231105T020000
TZOFFSETFROM:-0500
TZOFFSETTO:-0600
RDATE:20241103T020000
END:STANDARD
BEGIN:DAYLIGHT
TZNAME:CDT
DTSTART:20230312T020000
TZOFFSETFROM:-0600
TZOFFSETTO:-0500
RDATE:20240310T020000
RDATE:20250309T020000
END:DAYLIGHT
END:VTIMEZONE
BEGIN:VEVENT
UID:60342d4c-1d96-40d6-9a32-b1335d4c4256
DTSTAMP:20260419T163040Z
DESCRIPTION:
DTSTART;TZID=America/Chicago:20240219T050000
DTEND;TZID=America/Chicago:20240219T050001
LOCATION:
SUMMARY:Closed for President’s Day!
END:VEVENT
END:VCALENDAR
