BEGIN:VCALENDAR
VERSION:2.0
PRODID:-//getmeout.org//NONSGML kigkonsult.se iCalcreator 2.30.10//
CALSCALE:GREGORIAN
METHOD:PUBLISH
UID:9a2ca08b-3b03-43a2-a108-032339138b4b
X-WR-CALDESC:
X-WR-RELCALID:13e1bde9bfcbdc850d4405604d0dd996
X-WR-TIMEZONE:America/Chicago
BEGIN:VTIMEZONE
TZID:America/Chicago
BEGIN:STANDARD
TZNAME:CST
DTSTART:20231105T020000
TZOFFSETFROM:-0500
TZOFFSETTO:-0600
RDATE:20241103T020000
END:STANDARD
BEGIN:DAYLIGHT
TZNAME:CDT
DTSTART:20230312T020000
TZOFFSETFROM:-0600
TZOFFSETTO:-0500
RDATE:20240310T020000
RDATE:20250309T020000
END:DAYLIGHT
END:VTIMEZONE
BEGIN:VEVENT
UID:93ab2c92-7330-439d-9647-5a4ab11244f0
DTSTAMP:20260419T193459Z
DESCRIPTION:
DTSTART;TZID=America/Chicago:20231224T000000
DTEND;TZID=America/Chicago:20231224T235900
LOCATION:
SUMMARY:Christmas Eve!
END:VEVENT
END:VCALENDAR
