BEGIN:VCALENDAR
VERSION:2.0
PRODID:-//getmeout.org//NONSGML kigkonsult.se iCalcreator 2.30.10//
CALSCALE:GREGORIAN
METHOD:PUBLISH
UID:886e3581-4995-463b-8cdd-eb12e0ec01fa
X-WR-CALDESC:
X-WR-RELCALID:4c26cf5272caa7fdbf5b066a37bbcf07
X-WR-TIMEZONE:America/Chicago
BEGIN:VTIMEZONE
TZID:America/Chicago
BEGIN:STANDARD
TZNAME:CST
DTSTART:20231105T020000
TZOFFSETFROM:-0500
TZOFFSETTO:-0600
RDATE:20241103T020000
END:STANDARD
BEGIN:DAYLIGHT
TZNAME:CDT
DTSTART:20230312T020000
TZOFFSETFROM:-0600
TZOFFSETTO:-0500
RDATE:20240310T020000
RDATE:20250309T020000
END:DAYLIGHT
END:VTIMEZONE
BEGIN:VEVENT
UID:bfbfd102-4cb1-4a1e-a167-e77468e45a3f
DTSTAMP:20260419T211427Z
DESCRIPTION:
DTSTART;TZID=America/Chicago:20231123T000000
DTEND;TZID=America/Chicago:20231123T235900
LOCATION:
SUMMARY:Closed for Thanksgiving!
END:VEVENT
END:VCALENDAR
