BEGIN:VCALENDAR
VERSION:2.0
PRODID:-//getmeout.org//NONSGML kigkonsult.se iCalcreator 2.30.10//
CALSCALE:GREGORIAN
METHOD:PUBLISH
UID:e5dd3df7-6f93-488e-83d9-b30878613ce2
X-WR-CALDESC:
X-WR-RELCALID:9dbc4fd5e00f4631935b23478cd2e66d
X-WR-TIMEZONE:America/Chicago
BEGIN:VTIMEZONE
TZID:America/Chicago
BEGIN:STANDARD
TZNAME:CST
DTSTART:20231105T020000
TZOFFSETFROM:-0500
TZOFFSETTO:-0600
RDATE:20241103T020000
END:STANDARD
BEGIN:DAYLIGHT
TZNAME:CDT
DTSTART:20230312T020000
TZOFFSETFROM:-0600
TZOFFSETTO:-0500
RDATE:20240310T020000
RDATE:20250309T020000
END:DAYLIGHT
END:VTIMEZONE
BEGIN:VEVENT
UID:0085ca88-2db0-48d2-9302-0b16f643a742
DTSTAMP:20260419T211449Z
DESCRIPTION:
DTSTART;TZID=America/Chicago:20231110T000000
DTEND;TZID=America/Chicago:20231110T235900
LOCATION:
SUMMARY:Closed in observance for Veterans Day!
END:VEVENT
END:VCALENDAR
