BEGIN:VCALENDAR
VERSION:2.0
PRODID:-//getmeout.org//NONSGML kigkonsult.se iCalcreator 2.30.10//
CALSCALE:GREGORIAN
METHOD:PUBLISH
UID:4ecb0f20-b792-4094-8941-2d6be2106ab0
X-WR-CALDESC:Join us for this year's Caring Hands Luncheon! The event will 
 include a guest speaker and catered lunch. All proceeds benefit no-cost se
 rvices to local victims of domestic violence\, sexual assault and stalking
 .
X-WR-RELCALID:aa0aabefb0f092d4a0db8984862e9d90
X-WR-TIMEZONE:America/Chicago
BEGIN:VTIMEZONE
TZID:America/Chicago
BEGIN:STANDARD
TZNAME:CST
DTSTART:20221106T020000
TZOFFSETFROM:-0500
TZOFFSETTO:-0600
RDATE:20231105T020000
RDATE:20241103T020000
END:STANDARD
BEGIN:DAYLIGHT
TZNAME:CDT
DTSTART:20230312T020000
TZOFFSETFROM:-0600
TZOFFSETTO:-0500
RDATE:20240310T020000
RDATE:20250309T020000
END:DAYLIGHT
END:VTIMEZONE
BEGIN:VEVENT
UID:9eeca052-53a8-44d5-b03b-17e25e92f3a0
DTSTAMP:20260419T230424Z
DESCRIPTION:Join us for this year's Caring Hands Luncheon! The event will i
 nclude a guest speaker and catered lunch. All proceeds benefit no-cost ser
 vices to local victims of domestic violence\, sexual assault and stalking.
DTSTART;TZID=America/Chicago:20231024T120000
DTEND;TZID=America/Chicago:20231024T130000
LOCATION:Fairgrounds Vinita
SUMMARY:Caring Hands Luncheon - Vinita
END:VEVENT
END:VCALENDAR
