BEGIN:VCALENDAR
VERSION:2.0
PRODID:-//getmeout.org//NONSGML kigkonsult.se iCalcreator 2.30.10//
CALSCALE:GREGORIAN
METHOD:PUBLISH
UID:29ec3cd4-bed7-4608-9346-0ee802598e60
X-WR-CALDESC:Join us for this year's Caring Hands Luncheon! The event will 
 include a guest speaker and catered lunch. All proceeds benefit no-cost se
 rvices to local victims of domestic violence\, sexual assault and stalking
 .
X-WR-RELCALID:02035df3b0b5fd8a79187332f6401396
X-WR-TIMEZONE:America/Chicago
BEGIN:VTIMEZONE
TZID:America/Chicago
BEGIN:STANDARD
TZNAME:CST
DTSTART:20221106T020000
TZOFFSETFROM:-0500
TZOFFSETTO:-0600
RDATE:20231105T020000
RDATE:20241103T020000
END:STANDARD
BEGIN:DAYLIGHT
TZNAME:CDT
DTSTART:20230312T020000
TZOFFSETFROM:-0600
TZOFFSETTO:-0500
RDATE:20240310T020000
RDATE:20250309T020000
END:DAYLIGHT
END:VTIMEZONE
BEGIN:VEVENT
UID:a115bf36-6ff8-43d4-b684-30153ec979b3
DTSTAMP:20260419T230016Z
DESCRIPTION:Join us for this year's Caring Hands Luncheon! The event will i
 nclude a guest speaker and catered lunch. All proceeds benefit no-cost ser
 vices to local victims of domestic violence\, sexual assault and stalking.
DTSTART;TZID=America/Chicago:20231017T120000
DTEND;TZID=America/Chicago:20231017T130000
LOCATION:First United Methodist Grove
SUMMARY:Caring Hands Luncheon - Grove
END:VEVENT
END:VCALENDAR
